BEGIN:VCALENDAR
VERSION:2.0
PRODID:-//taviti/caldav-go//NONSGML v1.0.0//EN
BEGIN:VEVENT
UID:ac0286c4-1b9b-4d7a-9357-9163e56e0a41
DTSTAMP:20260423T101802Z
DTSTART:20260325T190000Z
DURATION:PT2H20M
DESCRIPTION:Practice: 1h0m0s\nQualify: 20m0s\nRace: 1h0m0s\n\n21 entrants in: TFE NASCAR - Chevrolet Monte Carlo 1971, TFE NASCAR - Dodge Charger 1971, TFE NASCAR - Plymouth Road Runner 1971
LOCATION:Bridgehampton, U.S.A.
SUMMARY:Event at Bridgehampton Race Circuit, Bridgehampton, U.S.A. (1971 Nascar - Syndicate Vintage Wednesday)
END:VEVENT
BEGIN:VEVENT
UID:459838b2-bfa6-476f-bd16-f6a8399a2ab9
DTSTAMP:20260423T101802Z
DTSTART:20260429T180000Z
DURATION:PT2H10M
DESCRIPTION:Practice: 1h0m0s\nQualify: 10m0s\nRace: 1h0m0s\n\n21 entrants in: TFE NASCAR - Chevrolet Monte Carlo 1971, TFE NASCAR - Dodge Charger 1971, TFE NASCAR - Plymouth Road Runner 1971
LOCATION:Ona, USA
SUMMARY:Event at 1971 Ona Speedway, Ona, USA (1971 Nascar - Syndicate Vintage Wednesday)
END:VEVENT
BEGIN:VEVENT
UID:28638dc0-50ae-4513-bce8-928cc4b13909
DTSTAMP:20260423T101802Z
DTSTART:20260506T180000Z
DURATION:PT2H10M
DESCRIPTION:Practice: 1h0m0s\nQualify: 10m0s\nRace: 1h0m0s\n\n21 entrants in: TFE NASCAR - Chevrolet Monte Carlo 1971, TFE NASCAR - Dodge Charger 1971, TFE NASCAR - Plymouth Road Runner 1971
LOCATION:Carpentersville, Illinois, USA
SUMMARY:Event at Meadowdale Raceways, Carpentersville, Illinois, USA (1971 Nascar - Syndicate Vintage Wednesday)
END:VEVENT
END:VCALENDAR